BEGIN:VCALENDAR
VERSION:2.0
PRODID:-//Alberta Innovates - ECPv6.15.17.1//NONSGML v1.0//EN
CALSCALE:GREGORIAN
METHOD:PUBLISH
X-ORIGINAL-URL:https://albertainnovates.ca
X-WR-CALDESC:Events for Alberta Innovates
REFRESH-INTERVAL;VALUE=DURATION:PT1H
X-Robots-Tag:noindex
X-PUBLISHED-TTL:PT1H
BEGIN:VTIMEZONE
TZID:America/Edmonton
BEGIN:DAYLIGHT
TZOFFSETFROM:-0700
TZOFFSETTO:-0600
TZNAME:MDT
DTSTART:20230312T090000
END:DAYLIGHT
BEGIN:STANDARD
TZOFFSETFROM:-0600
TZOFFSETTO:-0700
TZNAME:MST
DTSTART:20231105T080000
END:STANDARD
BEGIN:DAYLIGHT
TZOFFSETFROM:-0700
TZOFFSETTO:-0600
TZNAME:MDT
DTSTART:20240310T090000
END:DAYLIGHT
BEGIN:STANDARD
TZOFFSETFROM:-0600
TZOFFSETTO:-0700
TZNAME:MST
DTSTART:20241103T080000
END:STANDARD
BEGIN:DAYLIGHT
TZOFFSETFROM:-0700
TZOFFSETTO:-0600
TZNAME:MDT
DTSTART:20250309T090000
END:DAYLIGHT
BEGIN:STANDARD
TZOFFSETFROM:-0600
TZOFFSETTO:-0700
TZNAME:MST
DTSTART:20251102T080000
END:STANDARD
END:VTIMEZONE
BEGIN:VEVENT
DTSTART;VALUE=DATE:20240910
DTEND;VALUE=DATE:20240913
DTSTAMP:20260415T122540
CREATED:20240820T150624Z
LAST-MODIFIED:20240828T162225Z
UID:10000412-1725926400-1726185599@albertainnovates.ca
SUMMARY:Carbon Capture Canada
DESCRIPTION:Carbon Capture Canada is the only national\, Pan-Canadian convention showcasing Canada’s potential for carbon capture and underground storage innovation\, technology and global investment. \nPosition your organisation to take advantage of this dynamic market by being a part of Canada’s only dedicated Carbon Capture Utilization and Storage convention. \nMeet key industry players over three days of the convention\, with a two-day business conference\, expanded tradeshow floor with all major players\, followed by an unmissable opportunity to take a tour across CCUS projects and explore them in-person. \nThis event is proudly sponsored by Alberta Innovates.
URL:https://albertainnovates.ca/event/carbon-capture-canada/
LOCATION:Edmonton Convention Centre\, 9797 Jasper Ave\, Edmonton\, Alberta\, T5J 1N9\, Canada
ATTACH;FMTTYPE=image/png:https://albertainnovates.ca/wp-content/uploads/2024/08/Untitled-design.png
END:VEVENT
BEGIN:VEVENT
DTSTART;TZID=America/Edmonton:20240912T093000
DTEND;TZID=America/Edmonton:20240912T160000
DTSTAMP:20260415T122540
CREATED:20240821T172514Z
LAST-MODIFIED:20240821T172514Z
UID:10000421-1726133400-1726156800@albertainnovates.ca
SUMMARY:2024 Resource Futures Forum
DESCRIPTION:ACR and Dentons have come together to co-host the 2024 Resource Futures Forum. This event brings together key stakeholders\, including the Government of Alberta\, industry associations\, industry executives\, subject matter experts\, post secondary students\, and community members. \nThe morning will include panel discussions on regulator challenges and opportunities\, the future of energy decarbonization and a cross boarder energy outlook. Lunch is provided for all attendees. \nThe afternoon will include remarks from Sandra Ellis\, Vice-President\, Sales and Marketing at CN discussing transportation and logistics challenges and innovation\, and keynote remarks from the Honourable Rebecca Schulz\, Minister of Environment and Protected Areas\, discussing policy and the role of industry collaboration in achieving Alberta’s environmental goals. \n 
URL:https://albertainnovates.ca/event/2024-resource-futures-forum/
LOCATION:SAIT\, 1st Floor\, 1301-16 Avenue NW\, Calgary\, Alberta\, Canada
ATTACH;FMTTYPE=image/png:https://albertainnovates.ca/wp-content/uploads/2024/08/ResourceFuturesForum2024.png
END:VEVENT
END:VCALENDAR