BEGIN:VCALENDAR
VERSION:2.0
PRODID:-//Alberta Innovates - ECPv6.15.17.1//NONSGML v1.0//EN
CALSCALE:GREGORIAN
METHOD:PUBLISH
X-WR-CALNAME:Alberta Innovates
X-ORIGINAL-URL:https://albertainnovates.ca
X-WR-CALDESC:Events for Alberta Innovates
REFRESH-INTERVAL;VALUE=DURATION:PT1H
X-Robots-Tag:noindex
X-PUBLISHED-TTL:PT1H
BEGIN:VTIMEZONE
TZID:America/Edmonton
BEGIN:DAYLIGHT
TZOFFSETFROM:-0700
TZOFFSETTO:-0600
TZNAME:MDT
DTSTART:20230312T090000
END:DAYLIGHT
BEGIN:STANDARD
TZOFFSETFROM:-0600
TZOFFSETTO:-0700
TZNAME:MST
DTSTART:20231105T080000
END:STANDARD
BEGIN:DAYLIGHT
TZOFFSETFROM:-0700
TZOFFSETTO:-0600
TZNAME:MDT
DTSTART:20240310T090000
END:DAYLIGHT
BEGIN:STANDARD
TZOFFSETFROM:-0600
TZOFFSETTO:-0700
TZNAME:MST
DTSTART:20241103T080000
END:STANDARD
BEGIN:DAYLIGHT
TZOFFSETFROM:-0700
TZOFFSETTO:-0600
TZNAME:MDT
DTSTART:20250309T090000
END:DAYLIGHT
BEGIN:STANDARD
TZOFFSETFROM:-0600
TZOFFSETTO:-0700
TZNAME:MST
DTSTART:20251102T080000
END:STANDARD
END:VTIMEZONE
BEGIN:VEVENT
DTSTART;VALUE=DATE:20240920
DTEND;VALUE=DATE:20240923
DTSTAMP:20260421T034634
CREATED:20240808T180355Z
LAST-MODIFIED:20240808T180355Z
UID:10000410-1726790400-1727049599@albertainnovates.ca
SUMMARY:Techstars Startup Weekend Calgary
DESCRIPTION:Techstars Startup Weekend is like a hackathon for people excited about tech! Over a fun-filled 54 hours\, participants pitch ideas\, team up\, and bring a startup idea to life. It’s all about creativity\, teamwork\, and turning ideas into action! You’ll make new connections\, find mentors\, or maybe even meet your future business partner. It’s like a crash course where you learn by doing\, with seasoned pros showing you the ropes. \nSCHEDULE  \nFriday: 5:30 PM – 10:00 PM \n\nDay 1 is all about welcoming participants to the event\, making sure that everyone knows what will happen throughout the weekend\, pitching ideas\, and facilitating team formation. \n\nSaturday: 8:45 AM – 11:00 PM \n\nDay 2 is all about getting things done. Participants will attend workshop or receive mentorship from local industry and startup experts and coaches.\n\nSunday: 8:45 AM – 9:00 PM \n\nDay 3 is for completing work\, final pitch presentations\, networking and celebrations! 
URL:https://albertainnovates.ca/event/techstars-startup-weekend-calgary/
LOCATION:Alberta
ATTACH;FMTTYPE=image/jpeg:https://albertainnovates.ca/wp-content/uploads/2024/08/techstartupcalgary.jpg
END:VEVENT
END:VCALENDAR