BEGIN:VCALENDAR
VERSION:2.0
PRODID:-//Alberta Innovates - ECPv6.15.17.1//NONSGML v1.0//EN
CALSCALE:GREGORIAN
METHOD:PUBLISH
X-ORIGINAL-URL:https://albertainnovates.ca
X-WR-CALDESC:Events for Alberta Innovates
REFRESH-INTERVAL;VALUE=DURATION:PT1H
X-Robots-Tag:noindex
X-PUBLISHED-TTL:PT1H
BEGIN:VTIMEZONE
TZID:America/Edmonton
BEGIN:DAYLIGHT
TZOFFSETFROM:-0700
TZOFFSETTO:-0600
TZNAME:MDT
DTSTART:20230312T090000
END:DAYLIGHT
BEGIN:STANDARD
TZOFFSETFROM:-0600
TZOFFSETTO:-0700
TZNAME:MST
DTSTART:20231105T080000
END:STANDARD
BEGIN:DAYLIGHT
TZOFFSETFROM:-0700
TZOFFSETTO:-0600
TZNAME:MDT
DTSTART:20240310T090000
END:DAYLIGHT
BEGIN:STANDARD
TZOFFSETFROM:-0600
TZOFFSETTO:-0700
TZNAME:MST
DTSTART:20241103T080000
END:STANDARD
BEGIN:DAYLIGHT
TZOFFSETFROM:-0700
TZOFFSETTO:-0600
TZNAME:MDT
DTSTART:20250309T090000
END:DAYLIGHT
BEGIN:STANDARD
TZOFFSETFROM:-0600
TZOFFSETTO:-0700
TZNAME:MST
DTSTART:20251102T080000
END:STANDARD
END:VTIMEZONE
BEGIN:VEVENT
DTSTART;VALUE=DATE:20241113
DTEND;VALUE=DATE:20241122
DTSTAMP:20260421T072215
CREATED:20240821T165920Z
LAST-MODIFIED:20240821T165920Z
UID:10000419-1731456000-1732233599@albertainnovates.ca
SUMMARY:Innovation Week YYC
DESCRIPTION:Calgary’s tech sector is thriving and growing. From robots\, drones\, and augmented reality to advances in agriculture\, energy\, and digital media\, local companies are developing cool things with technology. These companies—and the people who power them—are tackling global challenges\, contributing to our city’s economy and building a collaborative tech community. \nInnovation Week showcases and celebrates the people\, startups\, scaleups and technologies defining Calgary’s future. \nWith the Platform Innovation Centre as the home-base\, and events covering sector tracks including CleanTech\, Digital Media\, Emerging Technology and more; and content tracks like Discover\, Social Innovation and Work in Tech\, there’s something for everyone at Innovation Week!
URL:https://albertainnovates.ca/event/studentpreneur-showcase-2/
LOCATION:Platform Innovation Centre\, Platform Innovation Centre 407 9th Ave SE\, Calgary\, Alberta\, T2G 2K7\, Canada
ATTACH;FMTTYPE=image/png:https://albertainnovates.ca/wp-content/uploads/2024/08/Innovation-Week-Logo.png
END:VEVENT
END:VCALENDAR