BEGIN:VCALENDAR
VERSION:2.0
PRODID:-//Alberta Innovates - ECPv6.15.17.1//NONSGML v1.0//EN
CALSCALE:GREGORIAN
METHOD:PUBLISH
X-WR-CALNAME:Alberta Innovates
X-ORIGINAL-URL:https://albertainnovates.ca
X-WR-CALDESC:Events for Alberta Innovates
REFRESH-INTERVAL;VALUE=DURATION:PT1H
X-Robots-Tag:noindex
X-PUBLISHED-TTL:PT1H
BEGIN:VTIMEZONE
TZID:America/Edmonton
BEGIN:DAYLIGHT
TZOFFSETFROM:-0700
TZOFFSETTO:-0600
TZNAME:MDT
DTSTART:20240310T090000
END:DAYLIGHT
BEGIN:STANDARD
TZOFFSETFROM:-0600
TZOFFSETTO:-0700
TZNAME:MST
DTSTART:20241103T080000
END:STANDARD
BEGIN:DAYLIGHT
TZOFFSETFROM:-0700
TZOFFSETTO:-0600
TZNAME:MDT
DTSTART:20250309T090000
END:DAYLIGHT
BEGIN:STANDARD
TZOFFSETFROM:-0600
TZOFFSETTO:-0700
TZNAME:MST
DTSTART:20251102T080000
END:STANDARD
BEGIN:DAYLIGHT
TZOFFSETFROM:-0700
TZOFFSETTO:-0600
TZNAME:MDT
DTSTART:20260308T090000
END:DAYLIGHT
BEGIN:STANDARD
TZOFFSETFROM:-0600
TZOFFSETTO:-0700
TZNAME:MST
DTSTART:20261101T080000
END:STANDARD
END:VTIMEZONE
BEGIN:VEVENT
DTSTART;VALUE=DATE:20250409
DTEND;VALUE=DATE:20250412
DTSTAMP:20260420T194621
CREATED:20250203T224115Z
LAST-MODIFIED:20250203T224203Z
UID:10000443-1744156800-1744415999@albertainnovates.ca
SUMMARY:EDA Xperience 2025
DESCRIPTION:This annual event attracts over 400 local\, national\, and international experts in economic development\, along with elected officials from across Alberta to discuss provincial developments\, explore ways to advance the economy\, and offer mutual support. \nDelegates will gain insights into Alberta’s sector opportunities\, updates on economic trends\, best practices\, inspiring keynotes\, and interactive networking opportunities. \nAccommodation information is contained in the registration confirmation email.  See prices here \nPlease note\, the Pomeroy Kananaskis Mountain Lodge the site of our Conference is also sold out however\, an excellent option is the Stony Nakoda Resort and Casino; just a 20 minute drive from the Conference site. \nYou must call the Stony directly to book your accommodation at 403-881-2853
URL:https://albertainnovates.ca/event/eda-xperience-2025/
LOCATION:Alberta
ATTACH;FMTTYPE=image/png:https://albertainnovates.ca/wp-content/uploads/2025/02/EDAlogo2023.png
END:VEVENT
END:VCALENDAR