BEGIN:VCALENDAR
VERSION:2.0
PRODID:-//Alberta Innovates - ECPv6.15.17.1//NONSGML v1.0//EN
CALSCALE:GREGORIAN
METHOD:PUBLISH
X-ORIGINAL-URL:https://albertainnovates.ca
X-WR-CALDESC:Events for Alberta Innovates
REFRESH-INTERVAL;VALUE=DURATION:PT1H
X-Robots-Tag:noindex
X-PUBLISHED-TTL:PT1H
BEGIN:VTIMEZONE
TZID:America/Edmonton
BEGIN:DAYLIGHT
TZOFFSETFROM:-0700
TZOFFSETTO:-0600
TZNAME:MDT
DTSTART:20240310T090000
END:DAYLIGHT
BEGIN:STANDARD
TZOFFSETFROM:-0600
TZOFFSETTO:-0700
TZNAME:MST
DTSTART:20241103T080000
END:STANDARD
BEGIN:DAYLIGHT
TZOFFSETFROM:-0700
TZOFFSETTO:-0600
TZNAME:MDT
DTSTART:20250309T090000
END:DAYLIGHT
BEGIN:STANDARD
TZOFFSETFROM:-0600
TZOFFSETTO:-0700
TZNAME:MST
DTSTART:20251102T080000
END:STANDARD
BEGIN:DAYLIGHT
TZOFFSETFROM:-0700
TZOFFSETTO:-0600
TZNAME:MDT
DTSTART:20260308T090000
END:DAYLIGHT
BEGIN:STANDARD
TZOFFSETFROM:-0600
TZOFFSETTO:-0700
TZNAME:MST
DTSTART:20261101T080000
END:STANDARD
END:VTIMEZONE
BEGIN:VEVENT
DTSTART;TZID=America/Edmonton:20250918T090000
DTEND;TZID=America/Edmonton:20250918T160000
DTSTAMP:20260421T130917
CREATED:20250904T195943Z
LAST-MODIFIED:20250904T195943Z
UID:10000458-1758186000-1758211200@albertainnovates.ca
SUMMARY:Resource Futures Forum 2025
DESCRIPTION:Navigating Canada’s Trade Future Together\nPresented by the Alberta Chamber of Resources in collaboration with Dentons\nCanada’s place in the global marketplace is shifting. New trade negotiations\, evolving sustainability expectations\, and infrastructure challenges are reshaping how our resource industries connect to the world. \nThe 2025 Resource Futures Forum will bring together leaders from industry\, government\, Indigenous communities\, and law to explore how Canada can remain competitive amid these new global trade realities. \nThis one-day event\, hosted in Calgary’s vibrant downtown\, is a unique opportunity to connect with decision-makers\, examine the trade-offs shaping policy\, and chart the pathways to ensure Canada’s resources reach new and growing markets.
URL:https://albertainnovates.ca/event/resource-futures-forum-2025/
LOCATION:The Bond\, 364 9 Ave SW\, Calgary\, Alberta\, T2P3E4\, Canada
ATTACH;FMTTYPE=image/jpeg:https://albertainnovates.ca/wp-content/uploads/2025/09/Resources-Futures-Forum-2025-1.jpg
ORGANIZER;CN="Alberta Chamber of Resources":MAILTO:admin@acr-alberta.com
END:VEVENT
BEGIN:VEVENT
DTSTART;TZID=America/Edmonton:20250922T080000
DTEND;TZID=America/Edmonton:20250926T170000
DTSTAMP:20260421T130917
CREATED:20250918T153636Z
LAST-MODIFIED:20250918T154416Z
UID:10000459-1758528000-1758906000@albertainnovates.ca
SUMMARY:Life Sciences Week
DESCRIPTION:Connecting minds\, shaping futures\nCelebrating and advancing Alberta’s life sciences.\nRecognized by Alberta Health and held annually on the last week of September\, Life Sciences Week is a free\, community-led event that connects industry leaders\, policymakers\, researchers\, innovators\, and students to ignite collaboration and spotlight cutting-edge breakthroughs. \nLife Sciences Week is back for its third year\, running September 22–26. With more than 50 community-led events across Edmonton and Calgary — from pitch competitions to lab tours and networking forums — the week has become a focal point and celebration for Alberta’s health and life sciences community.
URL:https://albertainnovates.ca/event/life-sciences-week/2025-09-22/
LOCATION:Alberta
ATTACH;FMTTYPE=image/png:https://albertainnovates.ca/wp-content/uploads/2025/09/LSW-picture.png
END:VEVENT
END:VCALENDAR